BEGIN:VCALENDAR
BEGIN:VEVENT
DESCRIPTION:\nMore Information: https://tickets.nassaumuseum.org/websales/pages/TicketSearchCriteria.aspx?evtInfo=583381~206c1481-b6bf-43bf-937b-6a626c3119e0&\n\n
DTSTART:20260317T203000Z
DTEND:20260519T203000Z
LOCATION:The Manes Art &amp; Education Center, One Museum Drive, Roslyn Harbor, NY, 11578
SUMMARY:After-School Art Lab I -  Grades K-2
UID:583381
DTSTAMP:20260423T101032Z
END:VEVENT
END:VCALENDAR
