BEGIN:VCALENDAR
BEGIN:VEVENT
DESCRIPTION:\nMore Information: https://tickets.nassaumuseum.org/websales/pages/TicketSearchCriteria.aspx?evtInfo=619253~206c1481-b6bf-43bf-937b-6a626c3119e0&\n\n
DTSTART:20260509T150000Z
DTEND:20260509T163000Z
LOCATION:The Manes Art &amp; Education Center, One Museum Drive, Roslyn Harbor, NY, 11578
SUMMARY:Artist in the Studio: Glen Hansen Master Glazing Techniques
UID:619253
DTSTAMP:20260425T065115Z
END:VEVENT
END:VCALENDAR
